BEGIN:VCALENDAR
VERSION:2.0
PRODID:Quicksite
NAME:Calendrier
X-WR-CALNAME:Calendrier
REFRESH-INTERVAL;VALUE=DURATION:PT240M
X-PUBLISHED-TTL:PT240M
BEGIN:VEVENT
UID:69e73cfb7beee
SUMMARY:Journée de la forêt
DESCRIPTION:Plus d'informations dans le tout-ménage du mois de mars 2026.
LOCATION:
DTSTART:20260321
DTSTAMP:20260212T101538Z
END:VEVENT
END:VCALENDAR